BEGIN:VCALENDAR
VERSION:2.0
BEGIN:VEVENT
SUMMARY:Reach out to Idaho State University SBDC – Pocatello  about Business Training & Workshops
DESCRIPTION:Reach out to them for information about their program.\n\nDescription: Free and low-cost business training workshops for Southeast Idaho entrepreneurs, hosted at Idaho State University SBDC in Pocatello. Topics range from startup basics to advanced business strategy.\n\n- Phone: (208) 244-8521\n- Email: swanann@isu.edu\n- Source: https://founder-nav.com/programs/recrKuRAKh2jPBqVv\n\n---\nBrought to you by Founder Nav, helping entrepreneurs navigate the entrepreneurial ecosystem.
DTSTART:20260425T100032Z
DTEND:20260425T103032Z
END:VEVENT
END:VCALENDAR