BEGIN:VCALENDAR
VERSION:2.0
BEGIN:VEVENT
SUMMARY:Reach out to Magnify Incubator (California NanoSystems Institute – UCLA) about Magnify Incubator at CNSI (UCLA)
DESCRIPTION:Reach out to them for information about their program.\n\nDescription: UCLA's deep tech and life science incubator at the California NanoSystems Institute, providing flexible wet lab and office space, access to $36M+ in advanced scientific equipment, mentorship, and networking. No equity taken. Preference for UCLA-affiliated companies.\n\n- Email: magnify@cnsi.ucla.edu\n- Source: https://founder-nav.com/programs/recrDXotFdXjiGjgA\n\n---\nBrought to you by Founder Nav, helping entrepreneurs navigate the entrepreneurial ecosystem.
DTSTART:20260425T100015Z
DTEND:20260425T103015Z
END:VEVENT
END:VCALENDAR