BEGIN:VCALENDAR
VERSION:2.0
BEGIN:VEVENT
SUMMARY:Reach out to Meridian Chamber of Commerce about Emerging Leaders Committee
DESCRIPTION:Reach out to them for information about their program.\n\nDescription: A Meridian Chamber committee cultivating and empowering emerging young professionals through mentorship, peer connection, and career development opportunities to shape Meridian's next generation of business leaders.\n\n- Phone: (208) 888-2817\n- Email: info@meridianchamber.org\n- Source: https://founder-nav.com/programs/recr9MMdiQHnBSOdB\n\n---\nBrought to you by Founder Nav, helping entrepreneurs navigate the entrepreneurial ecosystem.
DTSTART:20260425T100057Z
DTEND:20260425T103057Z
END:VEVENT
END:VCALENDAR