BEGIN:VCALENDAR
VERSION:2.0
BEGIN:VEVENT
SUMMARY:Reach out to Los Angeles County APEX Accelerator (East LA Entrepreneurial Center) about APEX Accelerator Government Contracting Assistance
DESCRIPTION:Reach out to them for information about their program.\n\nDescription: Provides expertise and no-cost services to help small businesses navigate the process of finding, bidding, and winning government contracts at the federal, state, and local levels.\n\n- Source: https://founder-nav.com/programs/recr7finHwNzCK5B3\n\n---\nBrought to you by Founder Nav, helping entrepreneurs navigate the entrepreneurial ecosystem.
DTSTART:20260425T100027Z
DTEND:20260425T103027Z
END:VEVENT
END:VCALENDAR