BEGIN:VCALENDAR
VERSION:2.0
BEGIN:VEVENT
SUMMARY:Reach out to Impact AZ 2025 about Impact AZ 2025 Programs
DESCRIPTION:Reach out to them for information about their program.\n\nDescription: An Arizona-based program focused on driving entrepreneurial and economic impact, providing training, mentorship, and community resources for business founders and innovation leaders.\n\n- Source: https://founder-nav.com/programs/recqyRtX3WxZ63VaG\n\n---\nBrought to you by Founder Nav, helping entrepreneurs navigate the entrepreneurial ecosystem.
DTSTART:20260425T100001Z
DTEND:20260425T103001Z
END:VEVENT
END:VCALENDAR