BEGIN:VCALENDAR
VERSION:2.0
BEGIN:VEVENT
SUMMARY:Reach out to Downtown KCK about Pop-Up! Modular Business Incubator
DESCRIPTION:Reach out to them for information about their program.\n\nDescription: Modular small business incubator in downtown Kansas City, KS helping entrepreneurs test the market, understand business costs, refine products, and access workshops on business planning and funding.\n\n- Email: outreach@downtownkck.org\n- Source: https://founder-nav.com/programs/recqxzHPdtWjbcLpg\n\n---\nBrought to you by Founder Nav, helping entrepreneurs navigate the entrepreneurial ecosystem.
DTSTART:20260425T100028Z
DTEND:20260425T103028Z
END:VEVENT
END:VCALENDAR