BEGIN:VCALENDAR
VERSION:2.0
BEGIN:VEVENT
SUMMARY:Reach out to North Central Iowa SBDC  about No-Cost Business Advising & Counseling
DESCRIPTION:Reach out to them for information about their program.\n\nDescription: Free, confidential, customized one-on-one business counseling for entrepreneurs and small businesses in North Central Iowa through the America's SBDC Iowa network.\n\n- Phone: (515) 574-1995\n- Email: case_k@iowacentral.edu\n- Source: https://founder-nav.com/programs/recqxR1DlViSPYQ3a\n\n---\nBrought to you by Founder Nav, helping entrepreneurs navigate the entrepreneurial ecosystem.
DTSTART:20260425T100009Z
DTEND:20260425T103009Z
END:VEVENT
END:VCALENDAR