BEGIN:VCALENDAR
VERSION:2.0
BEGIN:VEVENT
SUMMARY:Reach out to True Access Capital about Community UP! Program
DESCRIPTION:Reach out to them for information about their program.\n\nDescription: Community UP! is an 8-week entrepreneurship program offered through True Access Capital that fosters business development in underserved communities. Meeting weekly, participants learn fundamental planning concepts and tools to start and run a successful small business, with a focus on revitalizing neighborhoods through entrepreneurship.\n\n- Phone: (302) 652-6774\n- Email: ctymes@trueaccesscapital.org\n- Source: https://founder-nav.com/programs/recqlneoHwBeoWngV\n\n---\nBrought to you by Founder Nav, helping entrepreneurs navigate the entrepreneurial ecosystem.
DTSTART:20260425T100055Z
DTEND:20260425T103055Z
END:VEVENT
END:VCALENDAR