BEGIN:VCALENDAR
VERSION:2.0
BEGIN:VEVENT
SUMMARY:Reach out to Business Impact NW about Grow & Thrive
DESCRIPTION:Reach out to them for information about their program.\n\nDescription: A program designed for established business owners providing mentorship and strategic planning to refine operations and develop a long-term growth strategy.\n\n- Phone: (208) 608-5174\n- Email: iwbc@businessimpactnw.org\n- Source: https://founder-nav.com/programs/recqiG4K5rQgC8yWc\n\n---\nBrought to you by Founder Nav, helping entrepreneurs navigate the entrepreneurial ecosystem.
DTSTART:20260425T100024Z
DTEND:20260425T103024Z
END:VEVENT
END:VCALENDAR