BEGIN:VCALENDAR
VERSION:2.0
BEGIN:VEVENT
SUMMARY:Reach out to Centro Community Partners about Centro CEO Platform
DESCRIPTION:Reach out to them for information about their program.\n\nDescription: Provides a free, AI-powered business planner in English and Spanish to help low-to-moderate income entrepreneurs create structured business plans, offering step-by-step guidance and support to overcome barriers to starting and growing a business.\n\n- Source: https://founder-nav.com/programs/recqcc8tkfZQ0OODp\n\n---\nBrought to you by Founder Nav, helping entrepreneurs navigate the entrepreneurial ecosystem.
DTSTART:20260425T100019Z
DTEND:20260425T103019Z
END:VEVENT
END:VCALENDAR