BEGIN:VCALENDAR
VERSION:2.0
BEGIN:VEVENT
SUMMARY:Reach out to Maine SBDC - Ellsworth about Business Advising Program
DESCRIPTION:Reach out to them for information about their program.\n\nDescription: Free, confidential one-on-one business advising from certified SBDC advisors serving Ellsworth, Hancock County and surrounding areas. Covers business feasibility, planning, capital access, financial management, marketing, e-commerce, and strategic planning. Part of Maine's statewide SBDC network.\n\n- Phone: (207) 780-4420\n- Email: mainesbdc@usm.maine.edu\n- Source: https://founder-nav.com/programs/recqaOn1frMmwJx8E\n\n---\nBrought to you by Founder Nav, helping entrepreneurs navigate the entrepreneurial ecosystem.
DTSTART:20260425T100018Z
DTEND:20260425T103018Z
END:VEVENT
END:VCALENDAR