BEGIN:VCALENDAR
VERSION:2.0
BEGIN:VEVENT
SUMMARY:Reach out to World Trade Center Northern California  about World Trade Connect Accelerator Program
DESCRIPTION:Reach out to them for information about their program.\n\nDescription: An accelerator program by the Northern California World Trade Center (NorCalWTC) designed to help small US businesses develop international trade capabilities, diversify into export markets, and access cross-border e-commerce channels.\n\n- Email: kvuitel@norcalwtc.org\n- Source: https://founder-nav.com/programs/recqYOkBzkptjyOBM\n\n---\nBrought to you by Founder Nav, helping entrepreneurs navigate the entrepreneurial ecosystem.
DTSTART:20260425T100024Z
DTEND:20260425T103024Z
END:VEVENT
END:VCALENDAR