BEGIN:VCALENDAR
VERSION:2.0
BEGIN:VEVENT
SUMMARY:Reach out to Alaska SBDC – Fairbanks about Alaska SBDC One-on-One Business Advising
DESCRIPTION:Reach out to them for information about their program.\n\nDescription: Free, confidential, individualized business coaching from certified advisors covering all aspects of starting, growing, buying, selling, or recovering a business in Alaska.\n\n- Source: https://founder-nav.com/programs/recqY5BvmrYKdKxNe\n\n---\nBrought to you by Founder Nav, helping entrepreneurs navigate the entrepreneurial ecosystem.
DTSTART:20260425T100018Z
DTEND:20260425T103018Z
END:VEVENT
END:VCALENDAR