BEGIN:VCALENDAR
VERSION:2.0
BEGIN:VEVENT
SUMMARY:Reach out to SBDC Chesapeake College about Maryland SBDC Business Consulting & Training
DESCRIPTION:Reach out to them for information about their program.\n\nDescription: Provides professional training and no-cost confidential consulting to help small businesses on Maryland’s Eastern Shore develop business plans, solve problems, access capital, and create strategies for growth and profitability.\n\n- Phone: (410) 548-4419\n- Source: https://founder-nav.com/programs/recqTXh0EE1nwiVJ7\n\n---\nBrought to you by Founder Nav, helping entrepreneurs navigate the entrepreneurial ecosystem.
DTSTART:20260425T100043Z
DTEND:20260425T103043Z
END:VEVENT
END:VCALENDAR