BEGIN:VCALENDAR
VERSION:2.0
BEGIN:VEVENT
SUMMARY:Reach out to Ciocca Center for Innovation and Entrepreneurship – Santa Clara University about Accelerator Prep School
DESCRIPTION:Reach out to them for information about their program.\n\nDescription: Provides a hands-on, supportive environment to help teams refine business ideas, develop roadmaps, solve problems, and build pitches, preparing them to apply for top accelerators or raise early-stage funding. No fees, equity, or industry restrictions.\n\n- Phone: (408) 554-4000\n- Email: ccismasflorea@scu.edu\n- Source: https://founder-nav.com/programs/recqRnfhDdlQR8YSz\n\n---\nBrought to you by Founder Nav, helping entrepreneurs navigate the entrepreneurial ecosystem.
DTSTART:20260425T100007Z
DTEND:20260425T103007Z
END:VEVENT
END:VCALENDAR