BEGIN:VCALENDAR
VERSION:2.0
BEGIN:VEVENT
SUMMARY:Reach out to Latino Economic Development Center White Oak about EWI - Grow My Business Accelerator
DESCRIPTION:Reach out to them for information about their program.\n\nDescription: A 6-month accelerator for women who already own micro-businesses and are ready to grow. Part of the Empowered Women International (EWI) initiative. Participants meet twice monthly and gain access to LEDC's CDFI microloan products to fund expansion. Located at the White Oak office: 12520 Prosperity Dr., Suite 200, Silver Spring, MD 20904.\n\n- Phone: (202) 540-7400\n- Email: aboycheck@ledcmetro.org\n- Source: https://founder-nav.com/programs/recqRneXf2oBpbToy\n\n---\nBrought to you by Founder Nav, helping entrepreneurs navigate the entrepreneurial ecosystem.
DTSTART:20260425T100010Z
DTEND:20260425T103010Z
END:VEVENT
END:VCALENDAR