BEGIN:VCALENDAR
VERSION:2.0
BEGIN:VEVENT
SUMMARY:Reach out to Kansas SBDC @ Fort Hays State University Region about No-Cost Business Advising & Consulting
DESCRIPTION:Reach out to them for information about their program.\n\nDescription: Free, confidential business advising for entrepreneurs and small businesses in the FHSU service area (central and western Kansas), covering business plan development, market research, capital access, marketing, and strategic planning.\n\n- Phone: (785) 628-5615\n- Email: ksbdc@fhsu.edu\n- Source: https://founder-nav.com/programs/recqR4yIgJ7YSNesg\n\n---\nBrought to you by Founder Nav, helping entrepreneurs navigate the entrepreneurial ecosystem.
DTSTART:20260425T100044Z
DTEND:20260425T103044Z
END:VEVENT
END:VCALENDAR