BEGIN:VCALENDAR
VERSION:2.0
BEGIN:VEVENT
SUMMARY:Reach out to Johns Hopkins Technology Ventures about I-Corps Program
DESCRIPTION:Reach out to them for information about their program.\n\nDescription: A free NSF-funded 4-week customer discovery program designed to help researchers and entrepreneurs validate their technology's commercial potential. Participants must complete 40+ customer discovery interviews. Teams receive a $2,880 grant upon successful completion. Offered quarterly (January, April, July, October). Over 200 JHU teams have participated. JHU serves as a Mid-Atlantic regional hub alongside the University of Maryland.\n\n- Source: https://founder-nav.com/programs/recqMVm2tF4OsZsCo\n\n---\nBrought to you by Founder Nav, helping entrepreneurs navigate the entrepreneurial ecosystem.
DTSTART:20260425T100036Z
DTEND:20260425T103036Z
END:VEVENT
END:VCALENDAR