BEGIN:VCALENDAR
VERSION:2.0
BEGIN:VEVENT
SUMMARY:Reach out to San Diego & Imperial SBDC Network – The Brink about Springboard Program
DESCRIPTION:Reach out to them for information about their program.\n\nDescription: Provides no-cost, customized advising and coaching for life sciences and hi-tech entrepreneurs, helping founders accelerate growth, connect with capital, and access a network of experienced leaders and innovators in San Diego’s startup ecosystem.\n\n- Phone: (858) 964-1300\n- Email: pstegmann@connect.org\n- Source: https://founder-nav.com/programs/recqJZeS6pnaMoFbw\n\n---\nBrought to you by Founder Nav, helping entrepreneurs navigate the entrepreneurial ecosystem.
DTSTART:20260425T100005Z
DTEND:20260425T103005Z
END:VEVENT
END:VCALENDAR