BEGIN:VCALENDAR
VERSION:2.0
BEGIN:VEVENT
SUMMARY:Reach out to Post Falls Chamber of Commerce about River City Leadership Academy (RCLA)
DESCRIPTION:Reach out to them for information about their program.\n\nDescription: A 9-month leadership program run by the Post Falls Chamber of Commerce offering 80+ hours of community discovery days and 16 hours of certified leadership training to develop tomorrow's community leaders.\n\n- Source: https://founder-nav.com/programs/recqIMvxKb59uUyuD\n\n---\nBrought to you by Founder Nav, helping entrepreneurs navigate the entrepreneurial ecosystem.
DTSTART:20260425T100048Z
DTEND:20260425T103048Z
END:VEVENT
END:VCALENDAR