BEGIN:VCALENDAR
VERSION:2.0
BEGIN:VEVENT
SUMMARY:Reach out to The Roux Institute at Northeastern University about Entrepreneurship Education Programs
DESCRIPTION:Reach out to them for information about their program.\n\nDescription: A suite of community and student education programs including Start Summits (2-day ideation hackathons), Innovation Challenge (company-student problem-solving), Venture Forward (8-module business development), and Pine Tree Challenge. Open to anyone 18+ interested in startups.\n\n- Source: https://founder-nav.com/programs/recqExPBtJpX3BDzS\n\n---\nBrought to you by Founder Nav, helping entrepreneurs navigate the entrepreneurial ecosystem.
DTSTART:20260425T100046Z
DTEND:20260425T103046Z
END:VEVENT
END:VCALENDAR