BEGIN:VCALENDAR
VERSION:2.0
BEGIN:VEVENT
SUMMARY:Reach out to Magnify Incubator – California NanoSystems Institute (UCLA) about Magnify Internship Program
DESCRIPTION:Reach out to them for information about their program.\n\nDescription: Offers upperclassman undergraduates paid, hands-on experience with scientific start-ups, including mentorship, career development workshops, and a final project presentation over an 8-month academic year internship.\n\n- Phone: (310) 267-4838\n- Email: workforce@cnsi.ucla.edu\n- Source: https://founder-nav.com/programs/recqADSZLP3dqEFwV\n\n---\nBrought to you by Founder Nav, helping entrepreneurs navigate the entrepreneurial ecosystem.
DTSTART:20260425T100007Z
DTEND:20260425T103007Z
END:VEVENT
END:VCALENDAR