BEGIN:VCALENDAR
VERSION:2.0
BEGIN:VEVENT
SUMMARY:Reach out to Stella Foundation about Stella Labs Accelerator
DESCRIPTION:Reach out to them for information about their program.\n\nDescription: 16-week equity-free pre-seed accelerator for female founders. Provides hands-on mentorship, funding preparation, and business development support across all industries. Offered by Stella Foundation (founded 2012 by Silvia Mah), which has supported thousands of women entrepreneurs globally. Includes 300+ educational modules and 100+ worksheets.\n\n- Email: info@stella.co\n- Source: https://founder-nav.com/programs/recq4rt1jImpWtbEO\n\n---\nBrought to you by Founder Nav, helping entrepreneurs navigate the entrepreneurial ecosystem.
DTSTART:20260425T100014Z
DTEND:20260425T103014Z
END:VEVENT
END:VCALENDAR