BEGIN:VCALENDAR
VERSION:2.0
BEGIN:VEVENT
SUMMARY:Reach out to Greater Des Moines Partnership about Spark DSM Business Incubator
DESCRIPTION:Reach out to them for information about their program.\n\nDescription: Business incubator providing early-stage businesses with event access (Farmers Market, World Food Festival, Out to Lunch) and a 6-module educational series for growth.\n\n- Source: https://founder-nav.com/programs/recpzC8BQg5MjfENO\n\n---\nBrought to you by Founder Nav, helping entrepreneurs navigate the entrepreneurial ecosystem.
DTSTART:20260425T100001Z
DTEND:20260425T103001Z
END:VEVENT
END:VCALENDAR