BEGIN:VCALENDAR
VERSION:2.0
BEGIN:VEVENT
SUMMARY:Reach out to Twin Falls Area Chamber of Commerce about Magic Valley Young Professionals (MVYP)
DESCRIPTION:Reach out to them for information about their program.\n\nDescription: A group dedicated to fostering relationship building, leadership development, and civic engagement among young professionals in the Twin Falls area. Meets monthly with networking events, professional speakers, and volunteer activities.\n\n- Phone: (208) 733-3974\n- Email: info@twinfallschamber.com\n- Source: https://founder-nav.com/programs/recpsB3SXg1xBui2W\n\n---\nBrought to you by Founder Nav, helping entrepreneurs navigate the entrepreneurial ecosystem.
DTSTART:20260425T100018Z
DTEND:20260425T103018Z
END:VEVENT
END:VCALENDAR