BEGIN:VCALENDAR
VERSION:2.0
BEGIN:VEVENT
SUMMARY:Reach out to Montgomery County Business Center about Small Business Accelerator Program
DESCRIPTION:Reach out to them for information about their program.\n\nDescription: Free 10-week business accelerator in partnership with M&T Bank for early-stage and minority entrepreneurs in Montgomery County, covering business fundamentals, mentorship, and access to capital. Includes a Spanish-language version.\n\n- Phone: (240) 277-8072\n- Source: https://founder-nav.com/programs/recprdrQ6bSGGWhKZ\n\n---\nBrought to you by Founder Nav, helping entrepreneurs navigate the entrepreneurial ecosystem.
DTSTART:20260425T100004Z
DTEND:20260425T103004Z
END:VEVENT
END:VCALENDAR