BEGIN:VCALENDAR
VERSION:2.0
BEGIN:VEVENT
SUMMARY:Reach out to Berkeley-Haas Entrepreneurship Program about NSF I-Corps (Bay Area)
DESCRIPTION:Reach out to them for information about their program.\n\nDescription: A one-week intensive customer discovery program for UC Berkeley students and faculty exploring commercialization of lab innovations. Offered through Berkeley LSEC and Haas in partnership with the National Science Foundation.\n\n- Phone: (510) 642-4255\n- Email: entrepreneurship@haas.berkeley.edu\n- Source: https://founder-nav.com/programs/recppttidlIt20JD3\n\n---\nBrought to you by Founder Nav, helping entrepreneurs navigate the entrepreneurial ecosystem.
DTSTART:20260425T100045Z
DTEND:20260425T103045Z
END:VEVENT
END:VCALENDAR