BEGIN:VCALENDAR
VERSION:2.0
BEGIN:VEVENT
SUMMARY:Reach out to UC San Diego Entrepreneurship Center about MedTech Accelerator by IGE
DESCRIPTION:Reach out to them for information about their program.\n\nDescription: Accelerates deep-tech innovation through entrepreneurship education, mentorship, and commercialization support for engineers and scientists, offering programs like MedTech acceleration, NSF I-Corps, and global innovation training to help bring research-driven technologies to market.\n\n- Phone: (858) 822-1142\n- Email: IGE@UCSD.EDU\n- Source: https://founder-nav.com/programs/recpoUwyj8slFZeML\n\n---\nBrought to you by Founder Nav, helping entrepreneurs navigate the entrepreneurial ecosystem.
DTSTART:20260425T100044Z
DTEND:20260425T103044Z
END:VEVENT
END:VCALENDAR