BEGIN:VCALENDAR
VERSION:2.0
BEGIN:VEVENT
SUMMARY:Reach out to UC LAUNCH about UC LAUNCH Accelerator
DESCRIPTION:Reach out to them for information about their program.\n\nDescription: The University of California's leading startup accelerator, selecting ~20 of the most promising UC-affiliated startups each semester (Fall and Spring). A zero-equity, 3-month program using Lean Startup methodology, taught by UC Berkeley Haas faculty. Teams win up to $60K in prize money, are paired with serial entrepreneur mentors, and build investor-ready companies. Must have at least 1 UC student, alumni, faculty, or staff member.\n\n- Email: launch@berkeley.edu\n- Source: https://founder-nav.com/programs/recpj9ATHkIpipaQp\n\n---\nBrought to you by Founder Nav, helping entrepreneurs navigate the entrepreneurial ecosystem.
DTSTART:20260425T100031Z
DTEND:20260425T103031Z
END:VEVENT
END:VCALENDAR