BEGIN:VCALENDAR
VERSION:2.0
BEGIN:VEVENT
SUMMARY:Reach out to Gilbert Office of Economic Development about The CATALYST Business Resource Center (Gilbert)
DESCRIPTION:Reach out to them for information about their program.\n\nDescription: A partnership between Gilbert Office of Economic Development and the Gilbert Chamber Foundation providing a free business resource center with workshops, coaching, technical assistance, and co-working space for Gilbert entrepreneurs and small businesses.\n\n- Phone: (480) 503-6010\n- Email: econdev@gilbertaz.gov\n- Source: https://founder-nav.com/programs/recphX9B0ylshj8Bf\n\n---\nBrought to you by Founder Nav, helping entrepreneurs navigate the entrepreneurial ecosystem.
DTSTART:20260425T100037Z
DTEND:20260425T103037Z
END:VEVENT
END:VCALENDAR