BEGIN:VCALENDAR
VERSION:2.0
BEGIN:VEVENT
SUMMARY:Reach out to HomeLab Deep Bio Accelerator about HomeLab Deep Bio Accelerator
DESCRIPTION:Reach out to them for information about their program.\n\nDescription: UC San Diego's top-ranked deep biotech accelerator at the Center for Novel Therapeutics. Supports disruptive life sciences and digital health startups across longevity, BioAI, quantum, AI drug discovery, regenerative medicine, genomics, food tech, and more. Weekly sprints, capital closing clinics, AMAs, and investor sessions. Portfolio has generated $2.3B+ in exits and funds raised.\n\n- Source: https://founder-nav.com/programs/recpgqMktK7Hrx4Ez\n\n---\nBrought to you by Founder Nav, helping entrepreneurs navigate the entrepreneurial ecosystem.
DTSTART:20260425T100004Z
DTEND:20260425T103004Z
END:VEVENT
END:VCALENDAR