BEGIN:VCALENDAR
VERSION:2.0
BEGIN:VEVENT
SUMMARY:Reach out to The Innovation Lab – Independence about Monthly Entrepreneur Roundtables
DESCRIPTION:Reach out to them for information about their program.\n\nDescription: Monthly gatherings connecting local entrepreneurs to share insights, network with peers, and hear from guest speakers on relevant business topics.\n\n- Email: hello@innovationlab.us\n- Source: https://founder-nav.com/programs/recpdjPM5eDiPuBPe\n\n---\nBrought to you by Founder Nav, helping entrepreneurs navigate the entrepreneurial ecosystem.
DTSTART:20260425T100025Z
DTEND:20260425T103025Z
END:VEVENT
END:VCALENDAR