BEGIN:VCALENDAR
VERSION:2.0
BEGIN:VEVENT
SUMMARY:Reach out to Hawaii SBDC – Maui about Workshops & Seminars
DESCRIPTION:Reach out to them for information about their program.\n\nDescription: Free or low-cost business workshops and seminars from Hawaii SBDC Maui on topics including business planning, financial literacy, marketing, and access to capital. Open to all Maui County entrepreneurs at any stage of business development.\n\n- Phone: (808) 875-5990\n- Email: maui@hisbdc.org\n- Source: https://founder-nav.com/programs/recpWdy7MHlVOZqIW\n\n---\nBrought to you by Founder Nav, helping entrepreneurs navigate the entrepreneurial ecosystem.
DTSTART:20260425T100002Z
DTEND:20260425T103002Z
END:VEVENT
END:VCALENDAR