BEGIN:VCALENDAR
VERSION:2.0
BEGIN:VEVENT
SUMMARY:Reach out to Greater Iowa City, Inc. about Community Leadership Program (CLP)
DESCRIPTION:Reach out to them for information about their program.\n\nDescription: Leadership development program connecting community members in Greater Iowa City with civic skills, local networks, and leadership education over an extended program.\n\n- Source: https://founder-nav.com/programs/recpSyr6MJ6unY2gJ\n\n---\nBrought to you by Founder Nav, helping entrepreneurs navigate the entrepreneurial ecosystem.
DTSTART:20260425T100050Z
DTEND:20260425T103050Z
END:VEVENT
END:VCALENDAR