BEGIN:VCALENDAR
VERSION:2.0
BEGIN:VEVENT
SUMMARY:Reach out to Startup Tucson about Startup Tucson Accelerated Fundamentals
DESCRIPTION:Reach out to them for information about their program.\n\nDescription: A full-day intensive business workshop for entrepreneurs and small business owners in Southern Arizona covering the fundamental skills, tools, and mindset needed to launch or grow a business.\n\n- Phone: (520) 477-8278\n- Email: info@startuptucson.com\n- Source: https://founder-nav.com/programs/recpQMt9cwx8RdSjC\n\n---\nBrought to you by Founder Nav, helping entrepreneurs navigate the entrepreneurial ecosystem.
DTSTART:20260425T100059Z
DTEND:20260425T103059Z
END:VEVENT
END:VCALENDAR