BEGIN:VCALENDAR
VERSION:2.0
BEGIN:VEVENT
SUMMARY:Reach out to NetWork Kansas about Technical Assistance Program
DESCRIPTION:Reach out to them for information about their program.\n\nDescription: Business referral and support program connecting entrepreneurs to a statewide network of resource organizations for expertise, education, and economic resources.\n\n- Phone: (877) 521-8600\n- Source: https://founder-nav.com/programs/recpPeLpe6ehO7yO4\n\n---\nBrought to you by Founder Nav, helping entrepreneurs navigate the entrepreneurial ecosystem.
DTSTART:20260425T100057Z
DTEND:20260425T103057Z
END:VEVENT
END:VCALENDAR