BEGIN:VCALENDAR
VERSION:2.0
BEGIN:VEVENT
SUMMARY:Reach out to Kansas SBDC about No-Cost One-on-One Business Advising
DESCRIPTION:Reach out to them for information about their program.\n\nDescription: Free, confidential one-on-one business advising from professional SBDC advisors covering business planning, marketing, financing, HR, exit strategies, social media, strategic planning, and government contracting for startups and growing businesses.\n\n- Phone: (785) 296-6514\n- Email: info@ksbdc.net\n- Source: https://founder-nav.com/programs/recpNY1PVX7yziWQR\n\n---\nBrought to you by Founder Nav, helping entrepreneurs navigate the entrepreneurial ecosystem.
DTSTART:20260425T100041Z
DTEND:20260425T103041Z
END:VEVENT
END:VCALENDAR