BEGIN:VCALENDAR
VERSION:2.0
BEGIN:VEVENT
SUMMARY:Reach out to Sussex County Kitchen Incubator about Sussex County Kitchen Incubator
DESCRIPTION:Reach out to them for information about their program.\n\nDescription: The Sussex County Kitchen Incubator is a 1,800 sq ft licensed commercial kitchen at Delaware Technical Community College's Owens Campus in Georgetown, providing shared kitchen space and business assistance to culinary entrepreneurs. It removes barriers to entry by offering affordable licensed kitchen access for caterers, food truck operators, farmers, and food product makers, along with training in branding, marketing, pricing, and food licensing.\n\n- Source: https://founder-nav.com/programs/recpMWiZBtQHk5N2L\n\n---\nBrought to you by Founder Nav, helping entrepreneurs navigate the entrepreneurial ecosystem.
DTSTART:20260425T100015Z
DTEND:20260425T103015Z
END:VEVENT
END:VCALENDAR