BEGIN:VCALENDAR
VERSION:2.0
BEGIN:VEVENT
SUMMARY:Reach out to Maine Center for Entrepreneurs (MCE) about MarketShare Accelerator
DESCRIPTION:Reach out to them for information about their program.\n\nDescription: A sales-focused accelerator helping established Maine food, beverage, and agriculture businesses expand into regional and national markets through market data, coaching, and sales strategy support.\n\n- Source: https://founder-nav.com/programs/recpB5yVIcZRBC3FH\n\n---\nBrought to you by Founder Nav, helping entrepreneurs navigate the entrepreneurial ecosystem.
DTSTART:20260425T100003Z
DTEND:20260425T103003Z
END:VEVENT
END:VCALENDAR