BEGIN:VCALENDAR
VERSION:2.0
BEGIN:VEVENT
SUMMARY:Reach out to Arizona Commerce Authority about ACA Small Business Boot Camp
DESCRIPTION:Reach out to them for information about their program.\n\nDescription: A statewide initiative by the Arizona Commerce Authority delivering virtual webinars and in-person workshops to help Arizona's small businesses grow and thrive, led by local business experts.\n\n- Source: https://founder-nav.com/programs/recovIW0OdGhRmJFP\n\n---\nBrought to you by Founder Nav, helping entrepreneurs navigate the entrepreneurial ecosystem.
DTSTART:20260425T100057Z
DTEND:20260425T103057Z
END:VEVENT
END:VCALENDAR