BEGIN:VCALENDAR
VERSION:2.0
BEGIN:VEVENT
SUMMARY:Reach out to Idaho Innovation Center about TALKIN-BUSINESS
DESCRIPTION:Reach out to them for information about their program.\n\nDescription: A weekly live business show (formerly weekly, now archived) hosted by entrepreneurs Tyler Price and Bryan Magleby, interviewing Idaho business leaders, CEOs, and economic development professionals.\n\n- Phone: (208) 523-1026\n- Email: bryanmagleby@isu.edu\n- Source: https://founder-nav.com/programs/recotxsCiSPnPRi4R\n\n---\nBrought to you by Founder Nav, helping entrepreneurs navigate the entrepreneurial ecosystem.
DTSTART:20260425T100018Z
DTEND:20260425T103018Z
END:VEVENT
END:VCALENDAR