BEGIN:VCALENDAR
VERSION:2.0
BEGIN:VEVENT
SUMMARY:Reach out to REDF about REDF Accelerator
DESCRIPTION:Reach out to them for information about their program.\n\nDescription: A 6-month, 100+ hour hands-on program for leaders of employment social enterprises (ESEs)—mission-driven businesses that employ people overcoming barriers to employment (justice system involvement, homelessness, addiction). Two leaders from each ESE participate per cohort. Teaches business development, experiment design, employee success program design, and financial sustainability. Upon completion, each enterprise receives a $20,000 unrestricted grant. Since 2016: 185+ ESE leaders supported across the U.S.\n\n- Phone: (415) 561-6683\n- Email: lwarren@redf.org\n- Source: https://founder-nav.com/programs/recoqunCJFTx3BrdD\n\n---\nBrought to you by Founder Nav, helping entrepreneurs navigate the entrepreneurial ecosystem.
DTSTART:20260425T100023Z
DTEND:20260425T103023Z
END:VEVENT
END:VCALENDAR