BEGIN:VCALENDAR
VERSION:2.0
BEGIN:VEVENT
SUMMARY:Reach out to SJSU SpartUp Incubator about SpartUp Incubator
DESCRIPTION:Reach out to them for information about their program.\n\nDescription: Provides members with resources, networks, technologies, and experiences to help them progress from ideation to prototyping, planning, and fundraising, fostering a supportive environment for aspiring entrepreneurs at San José State University.\n\n- Phone: (408) 924-1000\n- Email: officeofinnovation@sjsu.edu\n- Source: https://founder-nav.com/programs/reconglWUlgBWFTx2\n\n---\nBrought to you by Founder Nav, helping entrepreneurs navigate the entrepreneurial ecosystem.
DTSTART:20260425T100035Z
DTEND:20260425T103035Z
END:VEVENT
END:VCALENDAR