BEGIN:VCALENDAR
VERSION:2.0
BEGIN:VEVENT
SUMMARY:Reach out to EntrePartners about Startup Weekend Iowa City
DESCRIPTION:Reach out to them for information about their program.\n\nDescription: Annual 54-hour startup competition where participants pitch ideas, form teams, and build a business prototype over a weekend, culminating in a final pitch to judges.\n\n- Source: https://founder-nav.com/programs/recolVJkLZykh5rKk\n\n---\nBrought to you by Founder Nav, helping entrepreneurs navigate the entrepreneurial ecosystem.
DTSTART:20260425T100045Z
DTEND:20260425T103045Z
END:VEVENT
END:VCALENDAR