BEGIN:VCALENDAR
VERSION:2.0
BEGIN:VEVENT
SUMMARY:Reach out to Blue Startups about Blue Startups Maui Bootcamp
DESCRIPTION:Reach out to them for information about their program.\n\nDescription: Intensive multi-day startup bootcamp held on Maui, designed to help early-stage entrepreneurs develop their business models, refine pitches, and connect with mentors and investors. Part of Blue Startups' effort to expand entrepreneurship support across the Hawaiian islands.\n\n- Phone: (808) 792-4080\n- Email: info@bluestartups.com\n- Source: https://founder-nav.com/programs/recoeaWd89R4Nu6nV\n\n---\nBrought to you by Founder Nav, helping entrepreneurs navigate the entrepreneurial ecosystem.
DTSTART:20260425T100039Z
DTEND:20260425T103039Z
END:VEVENT
END:VCALENDAR