BEGIN:VCALENDAR
VERSION:2.0
BEGIN:VEVENT
SUMMARY:Reach out to Lake County SBDC about SBDC Business Advising & Mentoring
DESCRIPTION:Reach out to them for information about their program.\n\nDescription: Provides confidential advising, training, and resources to help entrepreneurs and small businesses in Northern California start, grow, and access funding, with specialized support for tech, food, hospitality, and government contracting sectors.\n\n- Phone: (833) ASK-SBDC\n- Source: https://founder-nav.com/programs/recoZe0qmuuueFQmg\n\n---\nBrought to you by Founder Nav, helping entrepreneurs navigate the entrepreneurial ecosystem.
DTSTART:20260425T100030Z
DTEND:20260425T103030Z
END:VEVENT
END:VCALENDAR