BEGIN:VCALENDAR
VERSION:2.0
BEGIN:VEVENT
SUMMARY:Reach out to USC and Techstars Accelerator about USC and Techstars Accelerator
DESCRIPTION:Reach out to them for information about their program.\n\nDescription: 13-week Techstars accelerator affiliated with USC, investing $220K in 10 companies per cohort focused on deep tech, AI, healthcare, and media tech. USC affiliation required.\n\n- Source: https://founder-nav.com/programs/recoYPJDzBtgqosCT\n\n---\nBrought to you by Founder Nav, helping entrepreneurs navigate the entrepreneurial ecosystem.
DTSTART:20260425T100013Z
DTEND:20260425T103013Z
END:VEVENT
END:VCALENDAR