BEGIN:VCALENDAR
VERSION:2.0
BEGIN:VEVENT
SUMMARY:Reach out to Grid110 about Grid110 Community Business Accelerator
DESCRIPTION:Reach out to them for information about their program.\n\nDescription: 16-week accelerator program for established small businesses in Los Angeles, free with no equity, focused on underrepresented business owners.\n\n- Email: programs@grid110.org\n- Source: https://founder-nav.com/programs/recoRYeegHcpH9ABC\n\n---\nBrought to you by Founder Nav, helping entrepreneurs navigate the entrepreneurial ecosystem.
DTSTART:20260425T100010Z
DTEND:20260425T103010Z
END:VEVENT
END:VCALENDAR