BEGIN:VCALENDAR
VERSION:2.0
BEGIN:VEVENT
SUMMARY:Reach out to Can-Do Kalamazoo about Can-Do Camp
DESCRIPTION:Reach out to them for information about their program.\n\nDescription: Can-Do Camp is a 90-day program that gives you the tools, knowledge, and connections to launch a new business or scale your existing one. You’ll learn best practices, build a peer network, connect with local pros, and celebrate milestones along the way. By the end, you’ll have a solid foundation for success!\n\n- Phone: (269) 492-0261\n- Source: https://founder-nav.com/programs/recoF0dW9ftKPEJP5\n\n---\nBrought to you by Founder Nav, helping entrepreneurs navigate the entrepreneurial ecosystem.
DTSTART:20260425T100054Z
DTEND:20260425T103054Z
END:VEVENT
END:VCALENDAR