BEGIN:VCALENDAR
VERSION:2.0
BEGIN:VEVENT
SUMMARY:Reach out to MuckerLab Accelerator (Mucker Capital) about MuckerLab Accelerator
DESCRIPTION:Reach out to them for information about their program.\n\nDescription: Boutique, flexible-duration accelerator (averaging 12 months) in Santa Monica investing $100K–$175K for 10–15% equity in enterprise software, marketplaces, and consumer services.\n\n- Source: https://founder-nav.com/programs/recoBTnR6lvueLSCU\n\n---\nBrought to you by Founder Nav, helping entrepreneurs navigate the entrepreneurial ecosystem.
DTSTART:20260425T100019Z
DTEND:20260425T103019Z
END:VEVENT
END:VCALENDAR